Workbook

Sheet Data Dictionary 24092026
A1: Name | B1: Field | C1: Data Availablilty | D1: SBTi Data Type | E1: Data Type | F1: Accepted Values | G1: Explanation
A2: SBTi ID | B2: sbti_id | C2: Online dashboard, by-company download, and by-target download | D2: Company | E2: String | F2: 8 digit number starting with 4 | G2: SBTi-generated unique ID for each company
A3: Company Name | B3: company_name | C3: Online dashboard, by-company download, and by-target download | D3: Company | E3: String | F3: - | G3: Name of the corporate, SME or financial institution
A4: ISIN | B4: isin | C4: by-company download and by-target download | D4: Company | E4: String | F4: 12-character alphanumeric code | G4: International Securities Identification Number, commonly used in financial markets to uniquely identify a security. Along with LEIs, they are included in the SBTi data to support the identification of specific public companies setting targets.
A5: LEI | B5: lei | C5: by-company download and by-target download | D5: Company | E5: String | F5: 20-character alphanumeric code | G5: Legal Entity Identifier, providing a unique identifier of a legal entity, such as a corporate or financial institution. Along with ISINs, they are included in the SBTi data to support the identification of specific public companies setting targets.
A6: Location | B6: location | C6: Online dashboard, by-company download, and by-target download | D6: Company | E6: Enum | F6: One of the following: Afghanistan Åland Islands Albania Algeria American Samoa Andorra Angola Anguilla Antarctica Antigua and Barbuda Argentina Armenia Aruba Australia Austria Azerbaijan Bahamas Bahrain Bangladesh Barbados Belarus Belgium Belize Benin Bermuda Bhutan Bolivia (Plurinational State of) Bonaire, Sint Eustatius and Saba Bosnia and Herzegovina Botswana Bouvet Island Brazil British Indian Ocean Territory British Virgin Islands Brunei Darussalam Bulgaria Burkina Faso Burundi Cabo Verde Cambodia Cameroon Canada Cayman Islands Central African Republic Chad Chile China China, Hong Kong Special Administrative Region China, Macao Special Administrative Region Christmas Island Cocos (Keeling) Islands Colombia Comoros Congo Cook Islands Costa Rica Côte d’Ivoire Croatia Cuba Curaçao Cyprus Czechia Democratic People's Republic of Korea Democratic Republic of the Congo Denmark Djibouti Dominica Dominican Republic Ecuador Egypt El Salvador Equatorial Guinea Eritrea Estonia Eswatini Ethiopia Falkland Islands (Malvinas) Faroe Islands Fiji Finland France French Guiana French Polynesia French Southern Territories Gabon Gambia Georgia Germany Ghana Gibraltar Greece Greenland Grenada Guadeloupe Guam Guatemala Guernsey Guinea Guinea-Bissau Guyana Haiti Heard Island and McDonald Islands Holy See Honduras Hungary Iceland India Indonesia Iran (Islamic Republic of) Iraq Ireland Isle of Man Israel Italy Jamaica Japan Jersey Jordan Kazakhstan Kenya Kiribati Kosovo (under UNSC res. 1244) Kuwait Kyrgyzstan Lao People's Democratic Republic Latvia Lebanon Lesotho Liberia Libya Liechtenstein Lithuania Luxembourg Madagascar Malawi Malaysia Maldives Mali Malta Marshall Islands Martinique Mauritania Mauritius Mayotte Mexico Micronesia (Federated States of) Monaco Mongolia Montenegro Montserrat Morocco Mozambique Myanmar Namibia Nauru Nepal Netherlands (Kingdom of the) New Caledonia New Zealand Nicaragua Niger Nigeria Niue Norfolk Island North Macedonia Northern Mariana Islands Norway Oman Pakistan Palau Panama Papua New Guinea Paraguay Peru Philippines Pitcairn Poland Portugal Puerto Rico Qatar Republic of Korea Republic of Moldova Réunion Romania Russian Federation Rwanda Saint Barthélemy Saint Helena Saint Kitts and Nevis Saint Lucia Saint Martin (French Part) Saint Pierre and Miquelon Saint Vincent and the Grenadines Samoa San Marino Sao Tome and Principe Saudi Arabia Senegal Serbia Seychelles Sierra Leone Singapore Sint Maarten (Dutch part) Slovakia Slovenia Solomon Islands Somalia South Africa South Georgia and the South Sandwich Islands South Sudan Spain Sri Lanka State of Palestine Sudan Suriname Svalbard and Jan Mayen Islands Sweden Switzerland Syrian Arab Republic Taiwan, Province of China Tajikistan Thailand Timor-Leste Togo Tokelau Tonga Trinidad and Tobago Tunisia Türkiye Turkmenistan Turks and Caicos Islands Tuvalu Uganda Ukraine United Arab Emirates United Kingdom of Great Britain and Northern Ireland United Republic of Tanzania United States Minor Outlying Islands United States of America United States Virgin Islands Uruguay Uzbekistan Vanuatu Venezuela (Bolivarian Republic of) Viet Nam Wallis and Futuna Islands Western Sahara Yemen Zambia Zimbabwe | G6: Territory in which a company's registered headquarters is located.
A7: Region | B7: region | C7: Online dashboard, by-company download, and by-target download | D7: Company | E7: Enum | F7: One of the following: Australia and New Zealand Central Asia Eastern Asia Eastern Europe Latin America and the Caribbean Melanesia Micronesia Northern Africa Northern America Northern Europe Polynesia South-eastern Asia Southern Asia Southern Europe Sub-Saharan Africa Western Asia Western Europe | G7: Continent of registered headquarters.
A8: Sector | B8: sector | C8: Online dashboard, by-company download, and by-target download | D8: Company | E8: Enum | F8: One of the following: Aerospace and Defense Air Freight Transportation and Logistics Air Transportation - Airlines Air Transportation - Airport Services Automobiles and Components Banks, Diverse Financials, Insurance Building Products Chemicals Construction and Engineering Construction Materials Consumer Durables, Household and Personal Products Containers and Packaging Education Services Electric Utilities and Independent Power Producers and Energy Traders (including fossil, alternative and nuclear energy) Electrical Equipment and Machinery Food and Beverage Processing Food and Staples Retailing Food Production - Agricultural Production Food Production - Animal Source Food Production Forest and Paper Products - Forestry, Timber, Pulp and Paper, Rubber Gas Utilities Ground Transportation - Highways and Railtracks Ground Transportation - Railroads Transportation Ground Transportation - Trucking Transportation Healthcare Equipment and Supplies Healthcare Providers and Services, and Healthcare Technology Homebuilding Hotels, Restaurants and Leisure, and Tourism Services Media Mining - Coal Mining - Iron, Aluminum, Other Metals Mining - Other (Rare Minerals, Precious Metals and Gems) NGO Oil and Gas Pharmaceuticals, Biotechnology and Life Sciences Professional Services Public Agencies Real Estate Retailing Semiconductors and Semiconductors Equipment Software and Services Solid Waste Management Utilities Specialized Consumer Services Specialized Financial Services, Consumer Finance, Insurance Brokerage Firms Technology Hardware and Equipment Telecommunication Services Textiles, Apparel, Footwear and Luxury Goods Tires Tobacco Trading Companies and Distributors, and Commercial Services and Supplies Water Transportation - Ports and Services Water Transportation - Water Transportation Water Utilities | G8: Industrial category of a company.
A9: Organization Type | B9: organization_type | C9: Online dashboard, by-company download, and by-target download | D9: Company | E9: Enum | F9: One of the following: Corporate Financial Institution SME | G9: SBTi provides different target-setting processes for corporates, small and medium-sized enterprises (SMEs) and financial institutions. Used to support identification of these three categories of company.
A10: BA1.5 Status | B10: ba15_status | C10: by-company download only | D10: Company | E10: String | F10: One of the following: BA1.5 Member null | G10: Used to identify companies with BA1.5 campaign commitments (BA1.5 Option 1, BA1.5 Option 2, or Net-zero commitments published before April 11 2023)
A11: Company Temperature Alignment | B11: company_temperature_alignment | C11: Online dashboard and by-target download | D11: Company | E11: Enum | F11: One of the following: 1.5°C 1.5°C/2°C 1.5°C/Well-below 2°C 2°C 2°C/2°C Well-below 2°C Well-below 2°C/2°C Well-below 2°C/Well-below 2°C | G11: A company's overall alignment with the temperature rise goals of the Paris Agreement, based on its most recent scope 1 and 2 science-based targets. The SBTi does not usually give temperature alignment to scope 3 targets. This is because the methods to assess scope 3 alignment are not yet robust enough to provide a benchmark for temperature classification. The exceptions are automakers, which are given temperature alignments for their scope 3 category 11 emissions, resulting in split temperature alignments (Scope 1+2) xx°C/(Scope 3)xx°C
A12: Full Target Language | B12: full_target_language | C12: Online dashboard, by-company download, and by-target download | D12: Company | E12: String | F12: If validated using the SME route will start with "This target was approved using a streamlined target validation route exclusive to small and medium-sized enterprises (SMEs). Financial Institutions with only Near-term targets will start with "Headline target" and end with a link to the FIs full target details If none of the above and part of a Net-zero target submission, will start with "Overall Net-Zero Target" | G12: Full description of all of a company's targets that have been validated by the SBTi.
... A41: Target Classification Long | B41: target_classification_long | C41: by-company download only | D41: Company | E41: String | F41: For automakers the template is: The targets covering greenhouse gas emissions from company operations (scopes 1 and 2) are consistent with reductions required to keep warming to xx°C. The targets covering greenhouse gas emissions from scope 3 category 11 emissions from use of sold products are consistent with reductions required to keep warming to xx°C For all other entities the template is: The targets covering greenhouse gas emissions from company operations (scopes 1 and 2) are consistent with reductions required to keep warming to xx°C. Specific temperatures will vary by company based on their validated targets | G41: Specifies the temperature alignment of individual targets: 1.5°C, well-below 2°C, or 2°C. The SBTi does not usually give temperature alignment to scope 3 targets. This is because the methods to assess scope 3 alignment are not yet robust enough to provide a benchmark for temperature classification. The exceptions are automakers, which are given temperature alignments for their scope 3 category 11 emissions.

Sheet By Company <> By Target
A1: By Target Data | D1: By Company Data
A2: Field | B2: Values | D2: Field
A3: row_entry_id | D3: -
A4: sbti_id | D4: sbti_id
A5: company_name | D5: company_name
A6: isin | D6: isin
A7: lei | D7: lei
A8: location | D8: location
A9: region | D9: region
A10: sector | D10: sector
A11: organization_type | D11: organization_type
A12: action | D12: near_term_status
A13: commitment_type | D13: near_term_target_classification
A14: commitment_deadline | D14: near_term_target_year
... A25: target_classification_short | D25: date_updated
A26: base_year
A27: target_year
A28: year_type
A29: date_published

Sheet Data Quality Standards_dateTBD
A1: KEY
A2: Accuracy | B2: Data is correct, reliable, and free from errors / How well the data in question represents the real world
A3: Completeness | B3: All necessary data is present without omissions.
A4: Consistency | B4: Data across the system is not contradictory.
A5: Freshness | B5: Data is up to date and available when needed.
A6: Uniqueness | B6: For each unique record expected in a database there should be one field that uniquely identifies each given record.
A7: Validity | B7: All data is in the range and format expected.
A9: Field Name | B9: Other Rules | C9: Accuracy | D9: Completeness | E9: Consistency | F9: Freshness | G9: Uniqueness | H9: Validity
A10: COMPANY LEVEL (ACCOUNT) DATA | F10: Updated weekly on website, daily along pipeline | H10: covered by data dictionary tab
A11: SBTi ID | B11: ='Data Legend_23042024'!U3 -> #REF! | D11: All rows | E11: Across all rows and pipeline locations for a company | G11: TRUE
A12: Company Name | B12: ='Data Legend_23042024'!U4 -> #REF! | C12: Based on company submission | D12: All rows | E12: Across all rows and pipeline locations for a company
A13: CDP ID | B13: ='Data Legend_23042024'!U5 -> #REF! | C13: ? | D13: Does not apply | E13: Across all rows and pipeline locations for a company
A14: ISIN | B14: ='Data Legend_23042024'!U6 -> #REF! | C14: ? | D14: Does not apply | E14: Across all rows and pipeline locations for a company
A15: LEI | B15: ='Data Legend_23042024'!U7 -> #REF! | C15: ? | D15: Does not apply | E15: Across all rows and pipeline locations for a company
A16: Location | B16: ='Data Legend_23042024'!U8 -> #REF! | C16: Based on company submission + UNGC L:R mapping | D16: All rows | E16: Across all rows and pipeline locations for a company
A17: Region | B17: ='Data Legend_23042024'!U9 -> #REF! | C17: Based on company submission + UNGC L:R mapping | D17: All rows | E17: Across all rows and pipeline locations for a company
A18: Sector | B18: ='Data Legend_23042024'!U10 -> #REF! | C18: Based on company submission | D18: All rows | E18: Across all rows and pipeline locations for a company
A19: Organization Type | B19: ='Data Legend_23042024'!U11 -> #REF! | C19: ? | D19: All rows | E19: Across all rows and pipeline locations for a company
A20: B1.5 Status | B20: ='Data Legend_23042024'!U12 -> #REF! | C20: ? | D20: All rows? Commitments rows only? | E20: All rows? Commitments rows only?
A21: TARGET + COMMITMENT DATA (DEAL) | F21: Updated weekly on website, daily along pipeline | H21: covered by data dictionary tab
A22: Submission ID | B22: ='Data Legend_23042024'!U16 -> #REF! | D22: All rows | E22: Across all rows and pipeline locations for each of a company's submissions | G22: TRUE
A23: Entry ID | B23: ='Data Legend_23042024'!U17 -> #REF! | D23: All rows | E23: Across pipeline locations for each of a company's individual commitments and targets | G23: TRUE
A24: Submission Type | B24: ='Data Legend_23042024'!U18 -> #REF! | D24: All rows | E24: Across all rows and pipeline locations for each of a company's submissions
A25: Validation Route | B25: ='Data Legend_23042024'!U19 -> #REF! | D25: Target rows only | E25: Across all rows and pipeline locations for a company's targets that are part of the same submission
A26: Action | B26: ='Data Legend_23042024'!U20 -> #REF! | D26: All rows | E26: Across pipeline locations for each of a company's individual commitments and targets
A27: Commitment Type | B27: ='Data Legend_23042024'!U21 -> #REF! | D27: Commitment rows only | E27: Across pipeline locations for each of a company's individual commitments
A28: Commitment Deadline | B28: ='Data Legend_23042024'!U22 -> #REF! | D28: Commitment rows only | E28: Across pipeline locations for each of a company's individual commitments
A29: Status | B29: ='Data Legend_23042024'!U23 -> #REF! | D29: Commitment rows only (targets TBD) | E29: Across pipeline locations for each of a company's individual commitments
A30: Reason for Commitment Extension or Removal | B30: ='Data Legend_23042024'!U24 -> #REF! | D30: Commitment rows only | E30: Across pipeline locations for each of a company's individual commitments
A31: Company Temperature Alignment | B31: ='Data Legend_23042024'!U13 -> #REF! | D31: ? | E31: ?
A32: Target | B32: ='Data Legend_23042024'!U27 -> #REF! | D32: Target rows only | E32: ?
A33: Full Target Language | B33: ='Data Legend_23042024'!U14 -> #REF! | D33: Target rows only | E33: Across all rows and pipeline locations for a company's targets that are part of the same submission
A34: Target Wording | B34: ='Data Legend_23042024'!U28 -> #REF! | D34: Target rows only | E34: Across pipeline locations for each of a company's individual targets
A35: Scope | B35: ='Data Legend_23042024'!U29 -> #REF! | D35: Target rows only | E35: Across pipeline locations for each of a company's individual targets
A36: Target Value | B36: ='Data Legend_23042024'!U30 -> #REF! | D36: Target rows only | E36: Across pipeline locations for each of a company's individual targets
A37: Type | B37: ='Data Legend_23042024'!U31 -> #REF! | D37: Target rows only | E37: Across pipeline locations for each of a company's individual targets
A38: Sub-type | B38: ='Data Legend_23042024'!U32 -> #REF! | D38: Target rows only | E38: Across pipeline locations for each of a company's individual targets
A39: Target Classification Short | B39: ='Data Legend_23042024'!U33 -> #REF! | D39: Target rows only | E39: Across pipeline locations for each of a company's individual targets
A40: Base Year | B40: ='Data Legend_23042024'!U34 -> #REF! | D40: Target rows only | E40: Across pipeline locations for each of a company's individual targets
A41: Target Year | B41: ='Data Legend_23042024'!U35 -> #REF! | D41: Target rows only | E41: Across pipeline locations for each of a company's individual targets
...

Sheet Formatting Rules
A1: Field (backend) | B1: Possible Values | C1: Expected Value | D1: Logic | E1: Conditions per other field
A3: sbti_id | B3: 5 digit number
A4: company_name | B4: -
A5: cdp_id | B5: 2-8 digit number
A6: isin | B6: 12-character alphanumeric code
A7: lei | B7: 20-character alphanumeric code
A8: location | B8: One of the following (200 options doubleclick to open full list): Afghanistan Albania Algeria Andorra Angola Antigua and Barbuda Argentina Armenia Australia Austria Azerbaijan Bahamas Bahrain Bangladesh Barbados Belarus Belgium Belize Benin Bermuda Bhutan Bolivia Bosnia-Herzegovina Botswana Brazil Brunei Darussalam Bulgaria Burkina Faso Burundi Cambodia Cameroon Canada Cape Verde Central African Republic Chad Chile China Colombia Comoros Congo Brazzaville Congo, Democratic Republic of Costa Rica Cote d'Ivoire Croatia Cuba Cyprus Czechia Denmark Djibouti Dominica Dominican Republic Ecuador Egypt El Salvador Equatorial Guinea Eritrea Estonia Eswatini Ethiopia Fiji Finland France Gabon Gambia Georgia Germany Ghana Greece Grenada Guatemala Guinea Guinea-Bissau Guyana Haiti Honduras Hong Kong, China Hungary Iceland India Indonesia Iran, Islamic Republic of Iraq Ireland Israel Italy Jamaica Japan Jersey Jordan Kazakhstan Kenya Kiribati Korea, Democratic People's Republic of Korea, Republic of Kosovo as per the SC resolution 1244(1999) Kuwait Kyrgyzstan Lao People's Democratic Republic Latvia Lebanon Lesotho Liberia Libya Liechtenstein Lithuania Luxembourg Macau, China Madagascar Malawi Malaysia Maldives Mali Malta Marshall Islands Mauritania Mauritius Mexico Micronesia, Federated States of Moldova, Republic of Monaco Mongolia Montenegro Morocco Mozambique Myanmar Namibia Nauru Nepal Netherlands New Zealand Nicaragua Niger Nigeria North Macedonia Norway Oman Pakistan Palau Palestine, State of Panama Papua New Guinea Paraguay Peru Philippines Poland Portugal Qatar Romania Russian Federation Rwanda Saint Kitts and Nevis Saint Lucia Saint Vincent and The Grenadines Samoa San Marino Sao Tome and Principe Saudi Arabia Senegal Serbia Seychelles Sierra Leone Singapore Slovakia Slovenia Solomon Islands Somalia South Africa South Sudan Spain Sri Lanka Sudan Suriname Sweden Switzerland Syrian Arab Republic Taiwan, Province of China Tajikstan Tanzania, United Republic of Thailand Timor-Leste Togo Tonga Trinidad and Tobago Tunisia Türkiye Turkmenistan Tuvalu Uganda Ukraine United Arab Emirates United Kingdom United States of America Uruguay Uzbekistan Vanuatu Venezuela Viet Nam Yemen Zambia Zimbabwe
A9: region | B9: One of the following: Africa Asia Europe Latin America and the Caribbean Northern America MENA Oceania | D9: IF location = blank THEN region=
A10: sector | B10: One of the following (53 options doubleclick to open full list): Aerospace and Defense Air Freight Transportation and Logistics Air Transportation - Airlines Air Transportation - Airport Services Automobiles and Components Banks, Diverse Financials, Insurance Building Products Chemicals Construction and Engineering Construction Materials Consumer Durables, Household and Personal Products Containers and Packaging Education Services Electric Utilities and Independent Power Producers and Energy Traders (including Fossil, Alternative and Nuclear Energy) Electrical Equipment and Machinery Food and Beverage Processing Food and Staples Retailing Food Production - Agricultural Production Food Production - Animal Source Food Production Forest and Paper Products - Forestry, Timber, Pulp and Paper, Rubber Gas Utilities Ground Transportation - Highways and Railtracks Ground Transportation - Railroads Transportation Ground Transportation - Trucking Transportation Healthcare Equipment and Supplies Healthcare Providers and Services, and Healthcare Technology Homebuilding Hotels, Restaurants and Leisure, and Tourism Services Media Mining - Coal Mining - Iron, Aluminum, Other Metals Mining - Other (Rare Minerals, Precious Metals and Gems) NGO Oil and Gas Pharmaceuticals, Biotechnology and Life Sciences Professional Services Public Agencies Real Estate Retailing Semiconductors and Semiconductors Equipment Software and Services Solid Waste Management Utilities Specialized Consumer Services Specialized Financial Services, Consumer Finance, Insurance Brokerage Firms Technology Hardware and Equipment Telecommunication Services Textiles, Apparel, Footwear and Luxury Goods Tires Tobacco Trading Companies and Distributors, and Commercial Services and Supplies Water Transportation - Ports and Services Water Transportation - Water Transportation Water Utilities
A11: organization_type | B11: One of the following: Corporate Financial Institution SME
A12: ba15_status | B12: Yes No
A13: company_temperature_alignment | B13: One of the following: 1.5°C 1.5°C/2°C 1.5°C/Well-below 2°C 2°C 2°C/2°C Well-below 2°C Well-below 2°C/2°C Well-below 2°C/Well-below 2°C
A14: full_target_language | B14: -
A16: submission_id | B16: 11 digit number
A17: entry_id | B17: SBTi ID followed by a random incremental number (sbti id -1)
A18: submission_type | B18: Can be any combination of the following (doubleclick to open full list): Near Term Commitment Net Zero Commitment SME Near Term Validation SME Net Zero Validation Near Term Validation Near Term Update Validation Net Zero Validation Net Zero Update Validation FLAG Validation FLAG Update Validation FI Near Term Validation FI Near Term Update Validation
A19: validation_route | B19: One of the following: Corporate Financial Institution SME
A20: action | B20: One of the following: Commitment Target
A21: commitment_type | B21: One of the following: Standard BA1.5 Option 1 BA1.5 Option 2 Net-zero
A22: commitment_deadline | B22: yyyy-mm-dd
... A27: scope | B27: One of the following: 1 2 3 1+2 1+2+3 1+3
A28: target_value | B28: A number followed by its unit of measurement. May be a percentage, temperature, or other value. | D28: IF target = xx AND scope = xx AND __ THEN taget_value =
A29: type | B29: One of the following: Absolute Intensity Engagement Renewable electricity No-deforestation Net-zero Other
A30: sub_type | B30: One of the following: Maintenance Reduction Other
A31: target_classification_short | B31: One of the following: 1.5°C Well-below 2°C 2°C
A32: base_year | B32: yyyy
A33: target_year | B33: yyyy
A34: year_type | B34: One of the following: CY FY
A35: date_published | B35: yyyy-mm-dd
A36: ba15_date | B36: yyyy-mm-dd
A37: date_archived | B37: yyyy-mm-dd
A38: near_term_status | B38: One of the following: Committed Commitment removed Targets set
A39: near_term_target_classification | B39: One of the following: 1.5°C 1.5°C/2°C 1.5°C/Well-below 2°C 2°C 2°C/2°C Well-below 2°C Well-below 2°C/2°C Well-below 2°C/Well-below 2°C
A40: near_term_target_year | B40: yyyy
... A47: target_classification_long | B47: -
A50: reason_for_company_removal

Sheet Sheet17
A1: L | B1: B | C1: DD | E1: L | F1: B | G1: DD
A2: Afghanistan | B2: Afghanistan | C2: Afghanistan | E2: Aerospace and Defense | F2: Aerospace and Defense | G2: Aerospace and Defense
A3: Albania | B3: Albania | C3: Albania | E3: Air Freight Transportation and Logistics | F3: Air Freight Transportation and Logistics | G3: Air Freight Transportation and Logistics
A4: Algeria | B4: Algeria | C4: Algeria | E4: Air Transportation - Airlines | F4: Air Transportation - Airlines | G4: Air Transportation - Airlines
A5: Andorra | B5: Andorra | C5: Andorra | E5: Air Transportation - Airport Services | F5: Air Transportation - Airport Services | G5: Air Transportation - Airport Services
A6: Angola | B6: Angola | C6: Angola | E6: Automobiles and Components | F6: Automobiles and Components | G6: Automobiles and Components
A7: Antigua and Barbuda | B7: Antigua and Barbuda | C7: Antigua and Barbuda | E7: Banks, Diverse Financials, Insurance | F7: Banks, Diverse Financials, Insurance | G7: Banks, Diverse Financials, Insurance
A8: Argentina | B8: Argentina | C8: Argentina | E8: Building Products | F8: Building Products | G8: Building Products
A9: Armenia | B9: Armenia | C9: Armenia | E9: Chemicals | F9: Chemicals | G9: Chemicals
A10: Australia | B10: Australia | C10: Australia | E10: Construction and Engineering | F10: Construction and Engineering | G10: Construction and Engineering
A11: Austria | B11: Austria | C11: Austria | E11: Construction Materials | F11: Construction Materials | G11: Construction Materials
A12: Azerbaijan | B12: Azerbaijan | C12: Azerbaijan | E12: Consumer Durables, Household and Personal Products | F12: Consumer Durables, Household and Personal Products | G12: Consumer Durables, Household and Personal Products
... A54: Egypt | B54: Egypt | C54: Egypt | E54: Water Utilities | F54: Water Utilities | G54: Water Utilities
A55: El Salvador | B55: El Salvador | C55: El Salvador
A56: Equatorial Guinea | B56: Equatorial Guinea | C56: Equatorial Guinea
A57: Eritrea | B57: Eritrea | C57: Eritrea
A58: Estonia | B58: Estonia | C58: Estonia | E58: Textile Manufacturing, Spinning, Weaving & Apparel | F58: Textile Manufacturing, Spinning, Weaving & Apparel
A59: Swaziland | B59: Eswatini | C59: Eswatini | E59: Sciences | F59: Sciences
A60: Ethiopia | B60: Ethiopia | C60: Ethiopia | E60: Footwear and Luxury Goods | F60: Footwear and Luxury Goods
A61: Fiji | B61: Fiji | C61: Fiji
A62: Finland | B62: Finland | C62: Finland
A63: France | B63: France | C63: France
A64: Gabon | B64: Gabon | C64: Gabon
A65: Gambia | B65: Gambia | C65: Gambia
A66: Georgia | B66: Georgia | C66: Georgia
A67: Germany | B67: Germany | C67: Germany
A68: Ghana | B68: Ghana | C68: Ghana
A69: Greece | B69: Greece | C69: Greece
A70: Grenada | B70: Grenada | C70: Grenada
A71: Guatemala | B71: Guatemala | C71: Guatemala
A72: Guinea | B72: Guinea | C72: Guinea
... A201: Zimbabwe | B201: Zimbabwe | C201: Zimbabwe

Sheet Legacy structure
A1: Companies Taking Action
A3: DATA DOWNLOAD | B3: Company Name | C3: ISIN | D3: LEI | E3: Near term - Target Status | F3: Near term - Target Classification | G3: Near term - Target Year | H3: Long term - Target Status | I3: Long term - Target Classification | J3: Long term - Target Year | K3: Net-Zero Committed | L3: Net-Zero Year | M3: Organization Type | N3: BA1.5 | O3: BA1.5 Date | P3: Location | Q3: Region | R3: Sector | S3: Date | T3: Target | U3: Target Classification | V3: Extension

Sheet Beta structure
A1: Targets Dashboard | B1: Company Name | C1: CDP ID | D1: ISIN | E1: LEI | F1: Location | G1: Region | H1: Sector | I1: Organization type | J1: Validation route | K1: Action | L1: Commitment type | M1: Commitment deadline | N1: Status | O1: Reason for commitment extension or removal | P1: Full target language | Q1: Submission type | R1: Company temperature alignment | S1: Target | T1: Target wording | U1: Scope | V1: Target value | W1: Type | X1: Sub-type | Y1: Target classification | Z1: Base year | AA1: Target year | AB1: Year type | AC1: Date published | AD1: Near-term status | AE1: Net-zero status | AF1: BA15 status | AG1: Date archived | AH1: Reason for company removal
A2: Targets Dashboard Website Tab | B2: Company Name | C2: ISIN | D2: LEI | E2: Location | F2: Region | G2: Sector | H2: Organization type | I2: Action | J2: Commitment type | K2: Commitment deadline | L2: Status | M2: Reason for commitment extension or removal | N2: Full target language | O2: Company temperature alignment | P2: Target | Q2: Target wording | R2: Scope | S2: Target value | T2: Type | U2: Sub-type | V2: Target classification | W2: Base year | X2: Target year | Y2: Year type | Z2: Date published | AA2: Near-term status | AB2: Net-zero status | AC2: BA15 status
A3: DATA DOWNLOAD | B3: Company Name | C3: ISIN | D3: LEI | E3: Location | F3: Region | G3: Sector | H3: Organization Type | I3: Action | J3: Commitment Type | K3: Commitment Deadline | L3: Status | M3: Reason for commitment extension or removal | N3: Full target language | O3: Company Temperature Alignment | P3: Target | Q3: Target Wording | R3: Scope | S3: Target Value | T3: Type | U3: Sub-type | V3: Target Classification | W3: Base Year | X3: Target Year | Y3: Year Type | Z3: Date Published
A5: {=TRANSPOSE(B1:AH1)} -> Company Name
A6: CDP ID
A7: ISIN
A8: LEI
A9: Location
A10: Region
A11: Sector
A12: Organization type
A13: Validation route
A14: Action
A15: Commitment type
A16: Commitment deadline
A17: Status
... A19: Full target language
A20: Submission type | I20: SUM((COUNT_DISTINCT(IF(Organization type ="Company", Company Name,NULL)),(COUNT_DISTINCT(IF(Organization type ="Financial Institution", Company Name,NULL)),(COUNT_DISTINCT(IF(Organization type ="SME", Company Name,NULL))
A21: Company temperature alignment
A22: Target
A23: Target wording
A24: Scope
A25: Target value
A26: Type
A27: Sub-type
A28: Target classification
A29: Base year
A30: Target year
A31: Year type
A32: Date published
... A37: Reason for company removal
B39: |
A40: ^ | B40: $|
A41: Afghanistan | B41: ^Afghanistan$| | C41: Africa | D41: Africa| | E41: Aerospace and Defense | F41: ^Aerospace and Defense$|
A42: Albania | B42: ^Albania$| | C42: Asia | D42: Asia| | E42: Air Freight Transportation and Logistics | F42: ^Air Freight Transportation and Logistics$|
A43: Algeria | B43: ^Algeria$| | C43: Europe | D43: Europe| | E43: Air Transportation - Airlines | F43: ^Air Transportation - Airlines$|
A44: Andorra | B44: ^Andorra$| | C44: Latin America and the Caribbean | D44: ^Latin America and the Caribbean$| | E44: Air Transportation - Airport Services | F44: ^Air Transportation - Airport Services$|
A45: Angola | B45: ^Angola$| | C45: MENA | D45: MENA| | E45: Automobiles and Components | F45: ^Automobiles and Components $|
A46: Antigua and Barbuda | B46: ^Antigua and Barbuda$| | C46: Northern America | D46: ^Northern America$| | E46: Banks, Diverse Financials, Insurance | F46: ^Banks, Diverse Financials, Insurance$|
A47: Argentina | B47: ^Argentina$| | C47: Oceania | D47: Oceania | E47: Building Products | F47: ^Building Products$|
...
